BEGIN:VCALENDAR
VERSION:2.0
PRODID:-//eventon.com NONSGML v1.0//EN
CALSCALE:GREGORIAN
METHOD:PUBLISH
BEGIN:VEVENT
UID:69e5ec51291ba
DTSTAMP:20260420T090521Z
DTSTART:20261206T020000Z
DTEND:20261213T110000Z
LOCATION:
SUMMARY:Phuket Regatta
DESCRIPTION:⛵ Phuket Regatta 2025 – Sail into Asia’s Premier Yacht Ra
 ce 📍 Kata Beach\,  Phuket | 📅 December 6–13\,  2025 The Phuket Kin
 g’s Cup Regatta returns in December 2025\,  celebrating over three deca
 des of world-class sailing in the waters of the Andaman Sea. Held annually
  to honor the birthday of the late King Bhumibol[..]\nhttps://phuketprivate
 party.com/events/phuket-regatta-december-6-13/var/ri-1.l-L1
URL:https://phuketprivateparty.com/events/phuket-regatta-december-6-13/var/ri-1.l-L1
END:VEVENT
END:VCALENDAR