BEGIN:VCALENDAR
VERSION:2.0
PRODID:-//eventon.com NONSGML v1.0//EN
CALSCALE:GREGORIAN
METHOD:PUBLISH
BEGIN:VEVENT
UID:69e5ec3c83aa9
DTSTAMP:20260420T090500Z
DTSTART:20260620T030000Z
DTEND:20260622T163000Z
LOCATION:Phuket Town Phuket\,  Thailand
SUMMARY:Phuket Peranakan Festival
DESCRIPTION:Phuket Peranakan Festival: A Colorful Celebration of Heritage T
 he Phuket Peranakan Festival is a vibrant tribute to the island’s rich 
 cultural roots\,  blending Chinese and local Thai traditions in a dazzling 
 display of color\,  cuisine\,  and community pride. Held annually in Phuket
  Town\,  the festival showcases the unique Baba-Nyonya heritage\,  with p
 articipants dressed in[..]\nhttps://phuketprivateparty.com/events/phuket-pe
 ranakan-festival/var/ri-1.l-L1
URL:https://phuketprivateparty.com/events/phuket-peranakan-festival/var/ri-1.l-L1
END:VEVENT
END:VCALENDAR