BEGIN:VCALENDAR
VERSION:2.0
PRODID:-//eventon.com NONSGML v1.0//EN
CALSCALE:GREGORIAN
METHOD:PUBLISH
BEGIN:VEVENT
UID:69e5e8e30e130
DTSTAMP:20260420T085043Z
DTSTART:20270212T170000Z
DTEND:20270215T163000Z
LOCATION:Phuket Old Town Phuket Old Town\,  Thailand
SUMMARY:Phuket Old Town Festival
DESCRIPTION:Discover the Charm of the Phuket Old Town Festival Each year\, 
  the Phuket Old Town Festival transforms the heart of the island into a v
 ivid canvas of color\,  culture\,  and community. Held typically in Februar
 y\,  this three-day event is one of the most anticipated celebrations in so
 uthern Thailand. Both locals and tourists[..]\nhttps://phuketprivateparty.c
 om/events/phuket-old-town-festival/var/ri-2.l-L1
URL:https://phuketprivateparty.com/events/phuket-old-town-festival/var/ri-2.l-L1
END:VEVENT
END:VCALENDAR