BEGIN:VCALENDAR
VERSION:2.0
PRODID:-//eventon.com NONSGML v1.0//EN
CALSCALE:GREGORIAN
METHOD:PUBLISH
BEGIN:VEVENT
UID:69e5eca5ca390
DTSTAMP:20260420T090645Z
DTSTART:20261104T170000Z
DTEND:20261105T165900Z
LOCATION:Patong Beach\,  Saphan Hin Park Patong Beach\,  Phuket\,  Thailand
SUMMARY:Loy Krathong
DESCRIPTION:Loy Krathong in Phuket: A Magical Festival of Lights and Tradit
 ion Festival of Lights where candlelit floats are released into water bodie
 s. Celebrated at Patong Beach and Saphan Hin Park. When the full moon of th
 e twelfth lunar month graces the sky\,  Loy Krathong in Phuket transforms 
 the island into a[..]\nhttps://phuketprivateparty.com/events/loy-krathong/v
 ar/ri-1.l-L1
URL:https://phuketprivateparty.com/events/loy-krathong/var/ri-1.l-L1
END:VEVENT
END:VCALENDAR