BEGIN:VCALENDAR
VERSION:2.0
PRODID:-//eventon.com NONSGML v1.0//EN
CALSCALE:GREGORIAN
METHOD:PUBLISH
BEGIN:VEVENT
UID:69e5fdcf73577
DTSTAMP:20260420T101959Z
DTSTART:20261020T170000Z
DTEND:20261129T165900Z
LOCATION:Various Temples Phuket Phuket Town\,  Thailand
SUMMARY:Phuket Vegetarian Festival
DESCRIPTION:Unmasking the Mystery: Phuket Vegetarian Festival 2025 Experien
 ce the unforgettable Phuket Vegetarian Festival 2025. Discover its rituals\
 ,  food\,  parades &amp; spiritual power in this full guide for travelers. 
 Phuket is known for its beaches\,  nightlife\,  and vibrant culture\,  but 
 nothing captures its raw intensity and spiritual depth quite like the[..]\n
 https://phuketprivateparty.com/events/phuket-vegetarian-festival/var/ri-1.l
 -L1
URL:https://phuketprivateparty.com/events/phuket-vegetarian-festival/var/ri-1.l-L1
END:VEVENT
END:VCALENDAR