BEGIN:VCALENDAR
VERSION:2.0
PRODID:-//eventon.com NONSGML v1.0//EN
CALSCALE:GREGORIAN
METHOD:PUBLISH
BEGIN:VEVENT
UID:69e6a14ea1774
DTSTAMP:20260420T215734Z
DTSTART:20150310T033000Z
DTEND:20150310T210000Z
LOCATION:ILLUZION 31 Bangla\,  Ban Patong\,  Phuket\,  Thailand 83150
SUMMARY:ILLUZION in the HOUSE
DESCRIPTION:DJ&#8217;s ◢ LAZYKAY ◢ SILVIO PERRONE Doors open at 10.30 P
 M\nhttps://phuketprivateparty.com/events/illuzion-in-the-house/
URL:https://phuketprivateparty.com/events/illuzion-in-the-house/
END:VEVENT
END:VCALENDAR